BEGIN:VCALENDAR
VERSION:2.0
PRODID:-//Brighton Gay Men’s Chorus Tickets - ECPv6.15.17.1//NONSGML v1.0//EN
CALSCALE:GREGORIAN
METHOD:PUBLISH
X-WR-CALNAME:Brighton Gay Men’s Chorus Tickets
X-ORIGINAL-URL:https://tickets.brightongmc.org
X-WR-CALDESC:Events for Brighton Gay Men’s Chorus Tickets
REFRESH-INTERVAL;VALUE=DURATION:PT1H
X-Robots-Tag:noindex
X-PUBLISHED-TTL:PT1H
BEGIN:VTIMEZONE
TZID:Europe/London
BEGIN:DAYLIGHT
TZOFFSETFROM:+0000
TZOFFSETTO:+0100
TZNAME:BST
DTSTART:20250330T010000
END:DAYLIGHT
BEGIN:STANDARD
TZOFFSETFROM:+0100
TZOFFSETTO:+0000
TZNAME:GMT
DTSTART:20251026T010000
END:STANDARD
BEGIN:DAYLIGHT
TZOFFSETFROM:+0000
TZOFFSETTO:+0100
TZNAME:BST
DTSTART:20260329T010000
END:DAYLIGHT
BEGIN:STANDARD
TZOFFSETFROM:+0100
TZOFFSETTO:+0000
TZNAME:GMT
DTSTART:20261025T010000
END:STANDARD
BEGIN:DAYLIGHT
TZOFFSETFROM:+0000
TZOFFSETTO:+0100
TZNAME:BST
DTSTART:20270328T010000
END:DAYLIGHT
BEGIN:STANDARD
TZOFFSETFROM:+0100
TZOFFSETTO:+0000
TZNAME:GMT
DTSTART:20271031T010000
END:STANDARD
END:VTIMEZONE
BEGIN:VEVENT
DTSTART;TZID=Europe/London:20260501T193000
DTEND;TZID=Europe/London:20260501T220000
DTSTAMP:20260425T163722
CREATED:20260309T111543Z
LAST-MODIFIED:20260320T133531Z
UID:14720-1777663800-1777672800@tickets.brightongmc.org
SUMMARY:Heroes Friday 1st May
DESCRIPTION:Brighton Gay Men’s Chorus is back for the Fringe with a feel-good show about the queer icons who helped shape us as well as the heroes right here in our own city. \n\n\n\nWe’ll be celebrating the heroes many of us grew up with\, from David Bowie\, Freddie Mercury and George Michael\, through to newer heroes like JADE who are carrying that legacy forward today. \n\n\n\nAlongside choral favourites and a handful of solos\, the show also features interviews with LGBTQ+ heroes from Brighton & Hove\, putting the spotlight on those doing brilliant things for our community right now. \n\n\n\nAll the music is arranged by our in-house music team\, giving familiar songs a fresh choral twist. Expect to laugh\, shed a few tears and to experience plenty of queer joy\, as we celebrate the artists who helped us feel seen growing up\, and the local heroes still making a difference today. \n\n\n\n\n\n\n\n\n\n\n\n\n\n\n\nClick here to select tickets for Saturday’s show.
URL:https://tickets.brightongmc.org/event/heroes-friday-1st-may/
LOCATION:St. George’s Church\, St George’s Road\, Brighton\, East Sussex\, BN2 1ED\, United Kingdom
ATTACH;FMTTYPE=image/jpeg:https://tickets.brightongmc.org/wp-content/uploads/Heroes-Ticket-Image.jpg
END:VEVENT
BEGIN:VEVENT
DTSTART;TZID=Europe/London:20260502T193000
DTEND;TZID=Europe/London:20260502T220000
DTSTAMP:20260425T163722
CREATED:20260309T111551Z
LAST-MODIFIED:20260320T133626Z
UID:14728-1777750200-1777759200@tickets.brightongmc.org
SUMMARY:Heroes Saturday 2nd May
DESCRIPTION:Brighton Gay Men’s Chorus is back for the Fringe with a feel-good show about the queer icons who helped shape us as well as the heroes right here in our own city. \n\n\n\nWe’ll be celebrating the heroes many of us grew up with\, from David Bowie\, Freddie Mercury and George Michael\, through to newer heroes like JADE who are carrying that legacy forward today. \n\n\n\nAlongside choral favourites and a handful of solos\, the show also features interviews with LGBTQ+ heroes from Brighton & Hove\, putting the spotlight on those doing brilliant things for our community right now. \n\n\n\nAll the music is arranged by our in-house music team\, giving familiar songs a fresh choral twist. Expect to laugh\, shed a few tears and to experience plenty of queer joy\, as we celebrate the artists who helped us feel seen growing up\, and the local heroes still making a difference today. \n\n\n\n\n\n\n\n\n\n\n\n\n\n\n\nClick here to select tickets for Friday’s show.
URL:https://tickets.brightongmc.org/event/heroes-sat-2nd-may/
LOCATION:St. George’s Church\, St George’s Road\, Brighton\, East Sussex\, BN2 1ED\, United Kingdom
ATTACH;FMTTYPE=image/jpeg:https://tickets.brightongmc.org/wp-content/uploads/Heroes-Ticket-Image.jpg
END:VEVENT
END:VCALENDAR